BEGIN:VCALENDAR
VERSION:2.0
PRODID:-//La Vid - ECPv6.15.11//NONSGML v1.0//EN
CALSCALE:GREGORIAN
METHOD:PUBLISH
X-WR-CALNAME:La Vid
X-ORIGINAL-URL:https://www.lavid.org.mx
X-WR-CALDESC:Eventos para La Vid
REFRESH-INTERVAL;VALUE=DURATION:PT1H
X-Robots-Tag:noindex
X-PUBLISHED-TTL:PT1H
BEGIN:VTIMEZONE
TZID:America/Monterrey
BEGIN:STANDARD
TZOFFSETFROM:-0600
TZOFFSETTO:-0600
TZNAME:CST
DTSTART:20240101T000000
END:STANDARD
END:VTIMEZONE
BEGIN:VEVENT
DTSTART;TZID=America/Monterrey:20250702T200000
DTEND;TZID=America/Monterrey:20250702T210000
DTSTAMP:20260421T140659
CREATED:20250505T233316Z
LAST-MODIFIED:20250505T233316Z
UID:10000990-1751486400-1751490000@www.lavid.org.mx
SUMMARY:Reunión de familias (en línea)
DESCRIPTION:
URL:https://www.lavid.org.mx/evento/reunion-de-familias-en-linea-2/2025-07-02/
LOCATION:Auditorio La Vid
END:VEVENT
BEGIN:VEVENT
DTSTART;TZID=America/Monterrey:20250704T201500
DTEND;TZID=America/Monterrey:20250704T211500
DTSTAMP:20260421T140659
CREATED:20250115T224410Z
LAST-MODIFIED:20250214T002622Z
UID:10000851-1751660100-1751663700@www.lavid.org.mx
SUMMARY:Reunión de Profesionistas
DESCRIPTION:
URL:https://www.lavid.org.mx/evento/reunion-de-profesionistas/2025-07-04/
LOCATION:Auditorio La Vid
END:VEVENT
BEGIN:VEVENT
DTSTART;TZID=America/Monterrey:20250706T110000
DTEND;TZID=America/Monterrey:20250706T120000
DTSTAMP:20260421T140659
CREATED:20250115T004646Z
LAST-MODIFIED:20250115T215729Z
UID:10000025-1751799600-1751803200@www.lavid.org.mx
SUMMARY:Reunión General
DESCRIPTION:
URL:https://www.lavid.org.mx/evento/reunion-general/2025-07-06/
LOCATION:Auditorio La Vid
END:VEVENT
BEGIN:VEVENT
DTSTART;TZID=America/Monterrey:20250707T200000
DTEND;TZID=America/Monterrey:20250707T210000
DTSTAMP:20260421T140659
CREATED:20250115T223705Z
LAST-MODIFIED:20250115T223705Z
UID:10000286-1751918400-1751922000@www.lavid.org.mx
SUMMARY:Reunión de Hombres
DESCRIPTION:
URL:https://www.lavid.org.mx/evento/reunion-de-hombres/2025-07-07/
LOCATION:Auditorio La Vid
END:VEVENT
BEGIN:VEVENT
DTSTART;TZID=America/Monterrey:20250709T200000
DTEND;TZID=America/Monterrey:20250709T210000
DTSTAMP:20260421T140659
CREATED:20250505T233316Z
LAST-MODIFIED:20250505T233316Z
UID:10000991-1752091200-1752094800@www.lavid.org.mx
SUMMARY:Reunión de familias (en línea)
DESCRIPTION:
URL:https://www.lavid.org.mx/evento/reunion-de-familias-en-linea-2/2025-07-09/
LOCATION:Auditorio La Vid
END:VEVENT
BEGIN:VEVENT
DTSTART;TZID=America/Monterrey:20250711T201500
DTEND;TZID=America/Monterrey:20250711T211500
DTSTAMP:20260421T140659
CREATED:20250115T224410Z
LAST-MODIFIED:20250214T002622Z
UID:10000852-1752264900-1752268500@www.lavid.org.mx
SUMMARY:Reunión de Profesionistas
DESCRIPTION:
URL:https://www.lavid.org.mx/evento/reunion-de-profesionistas/2025-07-11/
LOCATION:Auditorio La Vid
END:VEVENT
BEGIN:VEVENT
DTSTART;TZID=America/Monterrey:20250713T110000
DTEND;TZID=America/Monterrey:20250713T120000
DTSTAMP:20260421T140659
CREATED:20250115T004646Z
LAST-MODIFIED:20250115T215729Z
UID:10000026-1752404400-1752408000@www.lavid.org.mx
SUMMARY:Reunión General
DESCRIPTION:
URL:https://www.lavid.org.mx/evento/reunion-general/2025-07-13/
LOCATION:Auditorio La Vid
END:VEVENT
BEGIN:VEVENT
DTSTART;TZID=America/Monterrey:20250714T200000
DTEND;TZID=America/Monterrey:20250714T210000
DTSTAMP:20260421T140659
CREATED:20250115T223705Z
LAST-MODIFIED:20250115T223705Z
UID:10000287-1752523200-1752526800@www.lavid.org.mx
SUMMARY:Reunión de Hombres
DESCRIPTION:
URL:https://www.lavid.org.mx/evento/reunion-de-hombres/2025-07-14/
LOCATION:Auditorio La Vid
END:VEVENT
BEGIN:VEVENT
DTSTART;TZID=America/Monterrey:20250716T200000
DTEND;TZID=America/Monterrey:20250716T210000
DTSTAMP:20260421T140659
CREATED:20250505T233316Z
LAST-MODIFIED:20250505T233316Z
UID:10000992-1752696000-1752699600@www.lavid.org.mx
SUMMARY:Reunión de familias (en línea)
DESCRIPTION:
URL:https://www.lavid.org.mx/evento/reunion-de-familias-en-linea-2/2025-07-16/
LOCATION:Auditorio La Vid
END:VEVENT
BEGIN:VEVENT
DTSTART;TZID=America/Monterrey:20250718T201500
DTEND;TZID=America/Monterrey:20250718T211500
DTSTAMP:20260421T140659
CREATED:20250115T224410Z
LAST-MODIFIED:20250214T002622Z
UID:10000853-1752869700-1752873300@www.lavid.org.mx
SUMMARY:Reunión de Profesionistas
DESCRIPTION:
URL:https://www.lavid.org.mx/evento/reunion-de-profesionistas/2025-07-18/
LOCATION:Auditorio La Vid
END:VEVENT
BEGIN:VEVENT
DTSTART;TZID=America/Monterrey:20250720T110000
DTEND;TZID=America/Monterrey:20250720T120000
DTSTAMP:20260421T140659
CREATED:20250115T004646Z
LAST-MODIFIED:20250115T215729Z
UID:10000027-1753009200-1753012800@www.lavid.org.mx
SUMMARY:Reunión General
DESCRIPTION:
URL:https://www.lavid.org.mx/evento/reunion-general/2025-07-20/
LOCATION:Auditorio La Vid
END:VEVENT
BEGIN:VEVENT
DTSTART;TZID=America/Monterrey:20250721T200000
DTEND;TZID=America/Monterrey:20250721T210000
DTSTAMP:20260421T140659
CREATED:20250115T223705Z
LAST-MODIFIED:20250115T223705Z
UID:10000288-1753128000-1753131600@www.lavid.org.mx
SUMMARY:Reunión de Hombres
DESCRIPTION:
URL:https://www.lavid.org.mx/evento/reunion-de-hombres/2025-07-21/
LOCATION:Auditorio La Vid
END:VEVENT
BEGIN:VEVENT
DTSTART;TZID=America/Monterrey:20250723T200000
DTEND;TZID=America/Monterrey:20250723T210000
DTSTAMP:20260421T140659
CREATED:20250505T233316Z
LAST-MODIFIED:20250505T233316Z
UID:10000993-1753300800-1753304400@www.lavid.org.mx
SUMMARY:Reunión de familias (en línea)
DESCRIPTION:
URL:https://www.lavid.org.mx/evento/reunion-de-familias-en-linea-2/2025-07-23/
LOCATION:Auditorio La Vid
END:VEVENT
BEGIN:VEVENT
DTSTART;TZID=America/Monterrey:20250725T201500
DTEND;TZID=America/Monterrey:20250725T211500
DTSTAMP:20260421T140659
CREATED:20250115T224410Z
LAST-MODIFIED:20250214T002622Z
UID:10000854-1753474500-1753478100@www.lavid.org.mx
SUMMARY:Reunión de Profesionistas
DESCRIPTION:
URL:https://www.lavid.org.mx/evento/reunion-de-profesionistas/2025-07-25/
LOCATION:Auditorio La Vid
END:VEVENT
BEGIN:VEVENT
DTSTART;TZID=America/Monterrey:20250727T110000
DTEND;TZID=America/Monterrey:20250727T120000
DTSTAMP:20260421T140659
CREATED:20250115T004646Z
LAST-MODIFIED:20250115T215729Z
UID:10000028-1753614000-1753617600@www.lavid.org.mx
SUMMARY:Reunión General
DESCRIPTION:
URL:https://www.lavid.org.mx/evento/reunion-general/2025-07-27/
LOCATION:Auditorio La Vid
END:VEVENT
BEGIN:VEVENT
DTSTART;TZID=America/Monterrey:20250728T200000
DTEND;TZID=America/Monterrey:20250728T210000
DTSTAMP:20260421T140659
CREATED:20250115T223705Z
LAST-MODIFIED:20250115T223705Z
UID:10000289-1753732800-1753736400@www.lavid.org.mx
SUMMARY:Reunión de Hombres
DESCRIPTION:
URL:https://www.lavid.org.mx/evento/reunion-de-hombres/2025-07-28/
LOCATION:Auditorio La Vid
END:VEVENT
BEGIN:VEVENT
DTSTART;TZID=America/Monterrey:20250730T200000
DTEND;TZID=America/Monterrey:20250730T210000
DTSTAMP:20260421T140659
CREATED:20250505T233316Z
LAST-MODIFIED:20250505T233316Z
UID:10000994-1753905600-1753909200@www.lavid.org.mx
SUMMARY:Reunión de familias (en línea)
DESCRIPTION:
URL:https://www.lavid.org.mx/evento/reunion-de-familias-en-linea-2/2025-07-30/
LOCATION:Auditorio La Vid
END:VEVENT
END:VCALENDAR