BEGIN:VCALENDAR
VERSION:2.0
PRODID:-//La Vid - ECPv6.15.11//NONSGML v1.0//EN
CALSCALE:GREGORIAN
METHOD:PUBLISH
X-ORIGINAL-URL:https://www.lavid.org.mx
X-WR-CALDESC:Eventos para La Vid
REFRESH-INTERVAL;VALUE=DURATION:PT1H
X-Robots-Tag:noindex
X-PUBLISHED-TTL:PT1H
BEGIN:VTIMEZONE
TZID:America/Monterrey
BEGIN:STANDARD
TZOFFSETFROM:-0600
TZOFFSETTO:-0600
TZNAME:CST
DTSTART:20250101T000000
END:STANDARD
END:VTIMEZONE
BEGIN:VEVENT
DTSTART;TZID=America/Monterrey:20260322T110000
DTEND;TZID=America/Monterrey:20260322T120000
DTSTAMP:20260421T025200
CREATED:20260307T001208Z
LAST-MODIFIED:20260307T001208Z
UID:10000062-1774177200-1774180800@www.lavid.org.mx
SUMMARY:Musical de Semana Santa "Cuán Grande Amor"
DESCRIPTION:
URL:https://www.lavid.org.mx/evento/reunion-general-2/
LOCATION:Auditorio La Vid
END:VEVENT
END:VCALENDAR